BEGIN:VCALENDAR
VERSION:2.0
PRODID: -//Q4 Inc.//EN
METHOD:PUBLISH
BEGIN:VTIMEZONE
TZID:America/New_York
X-LIC-LOCATION:America/New_York
BEGIN:DAYLIGHT
TZOFFSETFROM:-0500
TZOFFSETTO:-0400
TZNAME:EDT
DTSTART:19700308T020000
RRULE:FREQ=YEARLY;BYMONTH=3;BYDAY=2SU
END:DAYLIGHT
BEGIN:STANDARD
TZOFFSETFROM:-0400
TZOFFSETTO:-0500
TZNAME:EST
DTSTART:19701101T020000
RRULE:FREQ=YEARLY;BYMONTH=11;BYDAY=1SU
END:STANDARD
END:VTIMEZONE
BEGIN:VEVENT
ORGANIZER:MAILTO:no-reply@logitech.com
DTSTART;TZID="America/New_York":20260520T120000
DTEND;TZID="America/New_York":20260520T130000
LOCATION:The Westin Boston Seaport District in Boston
UID:dec7707c-b818-43e7-b4bf-8ea98f0e3f65
DTSTAMP:20260419T223918
SUMMARY:J.P. Morgan 2026 Global Technology, Media and Communications Conference Fireside Chat
DESCRIPTION: View More Information: http://ir.logitech.com/events-and-presentations/event-details/2026/JP-Morgan-2026-Global-Technology-Media-and-Communications-Conference-Fireside-Chat-2026-8ViGlx99mi/default.aspx
URL;VALUE=URI:http://ir.logitech.com/events-and-presentations/event-details/2026/JP-Morgan-2026-Global-Technology-Media-and-Communications-Conference-Fireside-Chat-2026-8ViGlx99mi/default.aspx
PRIORITY:5
CLASS:PUBLIC
END:VEVENT
END:VCALENDAR
